BEGIN:VCALENDAR
VERSION:2.0
PRODID:-//Norgesmesterskap 2026 - ECPv5.2.1//NONSGML v1.0//EN
CALSCALE:GREGORIAN
METHOD:PUBLISH
X-WR-CALNAME:Norgesmesterskap 2026
X-ORIGINAL-URL:https://ntnui.no/kite
X-WR-CALDESC:Arrangementer for Norgesmesterskap 2026
BEGIN:VTIMEZONE
TZID:Europe/Oslo
BEGIN:DAYLIGHT
TZOFFSETFROM:+0100
TZOFFSETTO:+0200
TZNAME:CEST
DTSTART:20250330T010000
END:DAYLIGHT
BEGIN:STANDARD
TZOFFSETFROM:+0200
TZOFFSETTO:+0100
TZNAME:CET
DTSTART:20251026T010000
END:STANDARD
END:VTIMEZONE
BEGIN:VEVENT
DTSTART;TZID=Europe/Oslo:20250517T100000
DTEND;TZID=Europe/Oslo:20250517T170000
DTSTAMP:20260422T141535
CREATED:20250505T184830Z
LAST-MODIFIED:20250505T184830Z
UID:3740-1747476000-1747501200@ntnui.no
SUMMARY:17. mai frokost!
DESCRIPTION:Påmelding til 17. mai-frokost. Dette blir kos dette:)) \nDato: 17. mai 2025 \nSted: Weidemanns vei 6B \nMer info kommer!\n«Æ hate livet\, men æ ælske pils…så det går bra »🤠
URL:https://ntnui.no/kite/event/17-mai-frokost/
END:VEVENT
END:VCALENDAR