BEGIN:VCALENDAR
VERSION:2.0
PRODID:-//Norgesmesterskap 2026 - ECPv5.2.1//NONSGML v1.0//EN
CALSCALE:GREGORIAN
METHOD:PUBLISH
X-WR-CALNAME:Norgesmesterskap 2026
X-ORIGINAL-URL:https://ntnui.no/kite
X-WR-CALDESC:Arrangementer for Norgesmesterskap 2026
BEGIN:VTIMEZONE
TZID:Europe/Oslo
BEGIN:DAYLIGHT
TZOFFSETFROM:+0100
TZOFFSETTO:+0200
TZNAME:CEST
DTSTART:20240331T010000
END:DAYLIGHT
BEGIN:STANDARD
TZOFFSETFROM:+0200
TZOFFSETTO:+0100
TZNAME:CET
DTSTART:20241027T010000
END:STANDARD
END:VTIMEZONE
BEGIN:VEVENT
DTSTART;TZID=Europe/Oslo:20240411T160000
DTEND;TZID=Europe/Oslo:20240414T170000
DTSTAMP:20260422T001532
CREATED:20240114T202436Z
LAST-MODIFIED:20240403T180445Z
UID:2806-1712851200-1713114000@ntnui.no
SUMMARY:Waiting list  trip # Blåtur
DESCRIPTION:Waiting list for trip  Blåtur \nPlease leave correct email adress so we can contact you in case of available tickets!
URL:https://ntnui.no/kite/event/waiting-list-trip-1-storwartz/
LOCATION:???
END:VEVENT
END:VCALENDAR