BEGIN:VCALENDAR
VERSION:2.0
PRODID:-//Norgesmesterskap 2026 - ECPv5.2.1//NONSGML v1.0//EN
CALSCALE:GREGORIAN
METHOD:PUBLISH
X-WR-CALNAME:Norgesmesterskap 2026
X-ORIGINAL-URL:https://ntnui.no/kite
X-WR-CALDESC:Arrangementer for Norgesmesterskap 2026
BEGIN:VTIMEZONE
TZID:Europe/Paris
BEGIN:DAYLIGHT
TZOFFSETFROM:+0100
TZOFFSETTO:+0200
TZNAME:CEST
DTSTART:20200329T010000
END:DAYLIGHT
BEGIN:STANDARD
TZOFFSETFROM:+0200
TZOFFSETTO:+0100
TZNAME:CET
DTSTART:20201025T010000
END:STANDARD
END:VTIMEZONE
BEGIN:VEVENT
DTSTART;TZID=Europe/Paris:20200911T160000
DTEND;TZID=Europe/Paris:20200913T210000
DTSTAMP:20260424T225856
CREATED:20200830T171632Z
LAST-MODIFIED:20210831T120808Z
UID:665-1599840000-1600030800@ntnui.no
SUMMARY:Tur #2 til Ørlandet m/ kurs
DESCRIPTION:—ENGLISH BELOW— \nHei! \nVi er nå klare for høstens andre tur til Ørlandet! \nPå denne turen arrangeres det nybegynnerkurs. Derfor publiseres det to arrangementer på nettsiden: \nUten kurs: For de som kun skal være med på tur.\nMed kurs: For de som skal på nybegynnerkurs. \nPriser:\nKun tur: 720 \,-\nTur med kurs: 2220 \,- (720 for turen + 1500 for kurs) \nDette inkluderer transport\, overnatting i to dager og middag begge dagene. Kurset inkluderer leie av utstyr (alt nødvendig utstyr bortsett fra våtdrakt) og instruktørtimer begge dagene. \nNTNUI Kite™ essentials – ta med dette! \n\nVåtdrakt\nSovepose/sengetøy\nVarme klær\nHåndkle\nPenger til mat og drikke utenom middag\n\nPengene overføres til kontonr. 8601.43.53056 med melding “<ditt navn > + stevne 2 Ørlandet” innen torsdag 3. september. \nFor å frakte alle til Ørlandet er vi avhengige av at de som kan stiller med bil. Hvis du kan stille med bil\, send en mail til nora@bodin.no slik at det kan organiseres riktig antall kjøretøy. Det vil bli gitt kjøregodtgjørelse på 2\,50 kr per km. \nHvis du ønsker å leie utstyr kan dette gjøres ved å sende en mail til mathias.strand@hotmail.com. Her er det først-til-mølla prinsippet som gjelder. Dette koster 250 kr per dag. Egenandel på utstyrsskader er inntil 2000kr. \nKontaktinformasjon ved spørsmål:\nSandra tlf: +47 97402023\nNora tlf +47 45881989\n  \n\n\nPersonvernerklæring:\n– Ved å melde deg på denne turen samtykker du til at opplysninger du gir fra deg kan brukes av NTNUI kite til praktiske formål i gjennomføringen av dette arrangementet\, og for at NTNUI kite skal kunne kontakte deg for å gi oppdatert informasjon om arrangementet. Det er frivillig å gi fra seg alle opplysninger og samtykket kan når som helst trekkes tilbake. Dette gjøres ved å kontakte arrangøren.\n– NTNUI kite og våre tillitsvalgte vil ikke gi fra seg dine opplysninger til en tredjepart uten videre samtykke eller ved rettslig pålegg.\n– Ved å delta på arrangementet aksepterer du å bli tatt bilde av. Bildene kan brukes fritt i NTNUI markedsføring og kan deles på media. Ønsker du ikke dette må du melde fra til arrangøren og/eller fotografen.\n– Covid-19: Dine opplysninger vil bli brukt for smittesporing i henhold til pålegg fra myndighetene.\n\n\n  \n———————————– \n  \nHey there! \nWe are now ready for the second trip of this semester. The location of which is Ørlandet! \nParticipants may sign up for a beginners course. Because of this\, two events will be published on our website: \nUten kurs: For those who are only joining the trip.\nMed kurs: For those who want to enroll in the beginners course. \nPrices:\nTrip only: 720 NOK\nTrip with course: 2220 NOK (720 for the trip and 1500 for the course) \nThe price covers transport\, accommodation and dinner both days.\nIf you choose the course you will be provided with gear (all necessary gear except wetsuit) and an instructor both days. \nNTNUI Kite™ essentials – bring this! \n\nWetsuit\nSleeping bag/ bedding\nWarm clothes\nTowel\nMoney for necessities\, such as breakfast/lunch\n\nPayment is due on Thursday September 3rd to account 8601.43.53056 with the message “<your name> + stevne 2 Ørlandet”. \nFor kite-rental. contact mathias.strand@hotmail.com. Rental is first-come-first-serve. This costs 250 NOK per day. In the event of equipment damage\, the renter is responsible for up to 2000 NOK. \nContact information in case of questions:\nSandra tlf: +47 97402023\nNora tlf: +47 45881989\n\n  \n\n\n\n\n\n\n\n\n\n\nPrivacy statement:\n– By attending this trip you agree to let NTNUI kite use your personal information for practicacal purposes under the planning of this trip. NTNUI kite can also use this information to contact you with updated trip information. It is vulantary to give us your information and your can withdraw your consent at any time by contacting us.\n-NTNUI kite and our volunteers will not give your information to a third party without further consent or legal order.\n– By attending this trip you agree to be photographed throughout the event. The pictures can be used freely in the marketing of NTNUI and can be shared on our platforms. If you don’t accept this you have to contact us or the photographer.\n– Covid-19: Your personal information can be used for tracing the virus according to the order by the authorities.
URL:https://ntnui.no/kite/event/tur-2-til-orlandet-m-kurs/
LOCATION:Ørlandet
END:VEVENT
BEGIN:VEVENT
DTSTART;TZID=Europe/Paris:20200924T080000
DTEND;TZID=Europe/Paris:20200928T233000
DTSTAMP:20260424T225856
CREATED:20200915T101328Z
LAST-MODIFIED:20200915T103107Z
UID:750-1600934400-1601335800@ntnui.no
SUMMARY:Overraskelsestur!
DESCRIPTION:—ENGLISH BELOW—\n\nHei!\nVi er nå klare for høstens store tur til en overraskelsesdestinasjon. Det eneste vi røper er at vi skal kjøre 8 timer i retning paradis!\n \nPris:\nTur: 1700 \,-\nDette inkluderer overnatting og transport. Matutgiftene i forbindelse med middag for denne turen tas på vippsoppgjør.\n\n \n \nNTNUI Kite™ essentials – ta med dette! \n\nVåtdrakt\, sko og hansker\nSovepose/sengetøy\nVarme klær\nHåndkle\nPenger til mat og drikke utenom middag\n\n \nBetaling: \nPengene overføres til kontonr. 8601.43.53056 med melding “<ditt navn > + stevne Overraskelsestur” innen fredag 18 September.\n\n \n \nHar du bil tilgjengelig?\nFor å frakte alle til destinasjon paradis er vi avhengige av at de som kan stiller med bil. Hvis du kan stille med bil\, send en mail til charlotte.kahler@ntnui.no slik at det kan organiseres riktig antall kjøretøy. Det vil bli gitt kjøregodtgjørelse på 2\,50 kr per km.\n\n \n \nUtstyrsleie\nHvis du ønsker å leie utstyr kan dette gjøres ved å sende en mail til hakon.drangsland@ntnui.no. Her er det først-til-mølla prinsippet som gjelder. Dette koster 500 kr for hele turen. Egenandel på utstyrsskader er inntil 2000kr.\n\n \n \nKontaktinformasjon ved spørsmål:\nEdvard tlf +47 93279429\nCharlotte tlf: +45 27154549\nHåkon tlf: +47 41666892\n\n \n \nPersonvernerklæring:\n– Ved å melde deg på denne turen samtykker du til at opplysninger du gir fra deg kan brukes av NTNUI kite til praktiske formål i gjennomføringen av dette arrangementet\, og for at NTNUI kite skal kunne kontakte deg for å gi oppdatert informasjon om arrangementet. Det er frivillig å gi fra seg alle opplysninger og samtykket kan når som helst trekkes tilbake. Dette gjøres ved å kontakte arrangøren.\n– NTNUI kite og våre tillitsvalgte vil ikke gi fra seg dine opplysninger til en tredjepart uten videre samtykke eller ved rettslig pålegg.\n– Ved å delta på arrangementet aksepterer du å bli tatt bilde av. Bildene kan brukes fritt i NTNUI markedsføring og kan deles på media. Ønsker du ikke dette må du melde fra til arrangøren og/eller fotografen.\n– Covid-19: Dine opplysninger vil bli brukt for smittesporing i henhold til pålegg fra myndighetene.\n———————————–\n\n \n \n \n \nHi!\nWe are now ready for the big trip of the semester. Our only clue as to the location is that we will be driving 8 hours in direction paradise!\n\n \n \n \nPrice:\nTrip: 1700 \,-\nThis includes accomodation and transport. Food expenses on this trip will be shared in VIPPS.\n\n \n \n \nNTNUI Kite™ essentials – bring this! \n\nWetsuit\, shoes and gloves\nSleepingbag/linnen\nWarm clothes\nTowel\nMoney for food and drink\n\n \nPayment:\nMoney can be transferred to kontonr. 8601.43.53056 with the message “<your name > + stevne Overraskelsestur” before Friday September 18th.\n\n \n \n \nDo you have a car available?\nTo transport the whole group we depend on those able to contribute with a car to do so. If this is you\, please email charlotte.kahler@ntnui.no so that the driving arrangements can be sorted. You will receive a compensation of 2\,50 kr per km.\n\n \n \n \nGear rental:\nIf you wish to rent gear\, you can do so by emailing hakon.drangsland@ntnui.no. The principle here is first come\, first served with a price of 500 kr for the whole trip. Any damages on the equipment has a deductible of up to 2000 kr.\n\n \n \n \nContact info for questions:\nEdvard phone +47 93279429\nCharlotte phone: +45 27154549\nHåkon phone +47 41666892\n\n \n \n \nPrivacy statement:\n– By attending this trip you agree to let NTNUI kite use your personal information for practicacal purposes under the planning of this trip. NTNUI kite can also use this information to contact you with updated trip information. It is vulantary to give us your information and your can withdraw your consent at any time by contacting us.\n-NTNUI kite and our volunteers will not give your information to a third party without further consent or legal order.\n– By attending this trip you agree to be photographed throughout the event. The pictures can be used freely in the marketing of NTNUI and can be shared on our platforms. If you don’t accept this you have to contact us or the photographer.\n– Covid-19: Your personal information can be used for tracing the virus according to the order by the authorities.\n \n \n\n\n \n\n 
URL:https://ntnui.no/kite/event/overraskelsestur/
LOCATION:???
ATTACH;FMTTYPE=image/jpeg:https://ntnui.no/kite/wp-content/uploads/sites/269/2020/09/overraskelse2-1.jpg
END:VEVENT
END:VCALENDAR