BEGIN:VCALENDAR
VERSION:2.0
PRODID:-//Norgesmesterskap 2026 - ECPv5.2.1//NONSGML v1.0//EN
CALSCALE:GREGORIAN
METHOD:PUBLISH
X-WR-CALNAME:Norgesmesterskap 2026
X-ORIGINAL-URL:https://ntnui.no/kite
X-WR-CALDESC:Arrangementer for Norgesmesterskap 2026
BEGIN:VTIMEZONE
TZID:Europe/Oslo
BEGIN:DAYLIGHT
TZOFFSETFROM:+0100
TZOFFSETTO:+0200
TZNAME:CEST
DTSTART:20230326T010000
END:DAYLIGHT
BEGIN:STANDARD
TZOFFSETFROM:+0200
TZOFFSETTO:+0100
TZNAME:CET
DTSTART:20231029T010000
END:STANDARD
END:VTIMEZONE
BEGIN:VEVENT
DTSTART;TZID=Europe/Oslo:20230324T163000
DTEND;TZID=Europe/Oslo:20230326T210000
DTSTAMP:20260421T105907
CREATED:20230314T104026Z
LAST-MODIFIED:20230313T071522Z
UID:2533-1679675400-1679864400@ntnui.no
SUMMARY:Waiting list Slaget Om Storwartz
DESCRIPTION:Sign up for a waiting list for Slaget on this page. \nMake sure you provide correct contact information in case there is any tickets available.
URL:https://ntnui.no/kite/event/waiting-list-slaget-om-storwartz/
LOCATION:Storwartz
END:VEVENT
END:VCALENDAR