BEGIN:VCALENDAR
VERSION:2.0
PRODID:-//Norgesmesterskap 2026 - ECPv5.2.1//NONSGML v1.0//EN
CALSCALE:GREGORIAN
METHOD:PUBLISH
X-WR-CALNAME:Norgesmesterskap 2026
X-ORIGINAL-URL:https://ntnui.no/kite
X-WR-CALDESC:Arrangementer for Norgesmesterskap 2026
BEGIN:VTIMEZONE
TZID:Europe/Paris
BEGIN:DAYLIGHT
TZOFFSETFROM:+0100
TZOFFSETTO:+0200
TZNAME:CEST
DTSTART:20200329T010000
END:DAYLIGHT
BEGIN:STANDARD
TZOFFSETFROM:+0200
TZOFFSETTO:+0100
TZNAME:CET
DTSTART:20201025T010000
END:STANDARD
END:VTIMEZONE
BEGIN:VEVENT
DTSTART;TZID=Europe/Paris:20200828T163000
DTEND;TZID=Europe/Paris:20200830T210000
DTSTAMP:20260420T165753
CREATED:20200817T120608Z
LAST-MODIFIED:20200819T090747Z
UID:608-1598632200-1598821200@ntnui.no
SUMMARY:Kickoff-tur til Ørlandet m/Kurs!
DESCRIPTION:—ENGLISH BELOW— \nHei! \nVi er nå klare for høstens første tur og kurs\, som går til Ørlandet! \nPå denne turen arrangeres det nybegynnerkurs. Derfor publiseres det to arrangementer på nettsiden: \nUten kurs: For de som kun skal være med på tur.\nMed kurs: For de som skal på nybegynnerkurs. \nPriser:\nKun tur: 680 \,-\nTur med kurs: 2180 \,- (680 for turen + 1500 for kurs) \nDette inkluderer transport\, overnatting i to dager og middag begge dagene. Kurset inkluderer leie av utstyr (alt nødvendig utstyr bortsett fra våtdrakt) og instruktørtimer begge dagene. \nNTNUI Kite™ essentials – ta med dette! \n\nVåtdrakt\nSovepose/sengetøy\nVarme klær\nHåndkle\nPenger til mat og drikke utenom middag\n\nPengene overføres til kontonr. 8601.43.53056 med melding “<ditt navn > + stevne 1 Ørlandet” innen fredag 21. august. \nFor å frakte alle til Ørlandet er vi avhengige av at de som kan stiller med bil. Hvis du kan stille med bil\, send en mail til eivindhstray@gmail.com slik at det kan organiseres riktig antall kjøretøy. Det vil bli gitt kjøregodtgjørelse på 2\,50 kr per km. \nHvis du ønsker å leie utstyr kan dette gjøres ved å sende en mail til hakonsd@gmail.com. Her er det først-til-mølla prinsippet som gjelder. Dette koster 250 kr per dag. Egenandel på utstyrsskader er inntil 2000kr. \nKontaktinformasjon ved spørsmål:\nOle tlf: +47 93896430\nEivind tlf +47 45869917 eller epost eivindhstray@gmail.com \n—- \nHey there! \nWe are now ready for the first trip of this semester. The location of which is Ørlandet! \nParticipants may sign up for a beginners course. Because of this\, two events will be published on our website: \nUten kurs: For those who are only joining the trip.\nMed kurs: For those who want to enroll in the beginners course. \nPrices:\nTrip only: 680 NOK\nTrip with course: 2180 NOK (680 for the trip and 1500 for the course) \nThe price covers transport\, accommodation and dinner both days.\nIf you choose the course you will be provided with gear (all necessary gear except wetsuit) and an instructor both days. \nNTNUI Kite™ essentials – bring this! \n\nWetsuit\nSleeping bag/ bedding\nWarm clothes\nTowel\nMoney for necessities\, such as breakfast/lunch\n\nPayment is due on friday August 21nd to account 8601.43.53056 with the message “<your name> + stevne 1 Ørlandet”. \nFor kite-rental. contact hakonsd@gmail.com. Rental is first-come-first-serve. This costs 250 NOK per day. In the event of equipment damage\, the renter is responsible for up to 2000 NOK. \nContact information in case of questions:\nOle tlf: +47 93896430\nEivind tlf +47 45869917 or mail eivindhstray@gmail.com
URL:https://ntnui.no/kite/event/kickoff-tur-til-orlandet-m-kurs/
END:VEVENT
END:VCALENDAR