BEGIN:VCALENDAR
VERSION:2.0
PRODID:-//NTNUI Friidrett - ECPv5.2.1//NONSGML v1.0//EN
CALSCALE:GREGORIAN
METHOD:PUBLISH
X-WR-CALNAME:NTNUI Friidrett
X-ORIGINAL-URL:https://ntnui.no/friidrett
X-WR-CALDESC:Arrangementer for NTNUI Friidrett
BEGIN:VTIMEZONE
TZID:Europe/Oslo
BEGIN:DAYLIGHT
TZOFFSETFROM:+0100
TZOFFSETTO:+0200
TZNAME:CEST
DTSTART:20220327T010000
END:DAYLIGHT
BEGIN:STANDARD
TZOFFSETFROM:+0200
TZOFFSETTO:+0100
TZNAME:CET
DTSTART:20221030T010000
END:STANDARD
END:VTIMEZONE
BEGIN:VEVENT
DTSTART;TZID=Europe/Oslo:20220829T180000
DTEND;TZID=Europe/Oslo:20220829T193000
DTSTAMP:20260422T130410
CREATED:20220828T133110Z
LAST-MODIFIED:20220828T133110Z
UID:3255-1661796000-1661801400@ntnui.no
SUMMARY:Welcome Week: Monday Jog in collaboration with Aktiv Campus
DESCRIPTION:Time: 18:30-20:00\nPlace: Meeting outside the main building of NTNU Gløshaugen\nNearest bustop: Høgskoleringen\nInformation about the event:\n\nYou just get used to the Monday jog right away. Every Monday\, NTNUI Athletics organizes a run\, and the Monday of activeCampus week is no exception. It will be both social and free sightseeing in Trondheim. You can choose between 6\, 8\, 10 or 12 km – so here there is something for most people.\n\nWhat should you bring?\nWear good running shoes and training clothes according to the weather.
URL:https://ntnui.no/friidrett/event/welcome-week-monday-jog-in-collaboration-with-aktiv-campus/
LOCATION:In front of the main building at Gløshaugen\, Høgskoleringen 1\, Trondheim\, 7034\, Norge
CATEGORIES:Trening,Welcome week
ATTACH;FMTTYPE=image/jpeg:https://ntnui.no/friidrett/wp-content/uploads/sites/262/2022/08/monday.jpg
END:VEVENT
END:VCALENDAR