BEGIN:VCALENDAR
VERSION:2.0
PRODID:-//NTNUI Friidrett - ECPv5.2.1//NONSGML v1.0//EN
CALSCALE:GREGORIAN
METHOD:PUBLISH
X-WR-CALNAME:NTNUI Friidrett
X-ORIGINAL-URL:https://ntnui.no/friidrett
X-WR-CALDESC:Arrangementer for NTNUI Friidrett
BEGIN:VTIMEZONE
TZID:Europe/Oslo
BEGIN:DAYLIGHT
TZOFFSETFROM:+0100
TZOFFSETTO:+0200
TZNAME:CEST
DTSTART:20210328T010000
END:DAYLIGHT
BEGIN:STANDARD
TZOFFSETFROM:+0200
TZOFFSETTO:+0100
TZNAME:CET
DTSTART:20211031T010000
END:STANDARD
END:VTIMEZONE
BEGIN:VEVENT
DTSTART;TZID=Europe/Oslo:20210216T180000
DTEND;TZID=Europe/Oslo:20210216T193000
DTSTAMP:20260422T074258
CREATED:20200916T105025Z
LAST-MODIFIED:20210210T153033Z
UID:2345-1613498400-1613503800@ntnui.no
SUMMARY:Trøndersk vinterkarusell (canceled)
DESCRIPTION:This training session is canceled due to the corona restrictions. \nVinterkarusellen er en serie med løp gjennom vinteren som arrangeres av Strindheim Friidrett. \nVinterkarusellen vil i vinter bestå av 6 løp\, med løp fra september 2020 til april 2021. Vinterkarusellen er åpen for alle\, med klasser fra 10 år og eldre. Løpene vil bli gjennomført i henhold til de til enhver tid gjeldende smittevernbestemmelser. \nTirsdag 16. februar blir det 3000 m i Ranheimshallen. Dersom det ikke blir mulig å gjennomføre løpene i Ranheimshallen vil disse erstattet av 5 km fra Leangen. \nPåmelding er nødvendig. Se mer her!
URL:https://ntnui.no/friidrett/event/trondersk-vinterkarusell-5/
LOCATION:Ranheimshallen\, Ernst Larsens veg 1\, Trondheim\, 7055\, Norge
CATEGORIES:Konkurranse
ATTACH;FMTTYPE=image/jpeg:https://ntnui.no/friidrett/wp-content/uploads/sites/262/2020/09/vinterkarusell-inne.jpg
END:VEVENT
END:VCALENDAR