BEGIN:VCALENDAR
VERSION:2.0
PRODID:-//NTNUI Friidrett - ECPv5.2.1//NONSGML v1.0//EN
CALSCALE:GREGORIAN
METHOD:PUBLISH
X-WR-CALNAME:NTNUI Friidrett
X-ORIGINAL-URL:https://ntnui.no/friidrett
X-WR-CALDESC:Arrangementer for NTNUI Friidrett
BEGIN:VTIMEZONE
TZID:Europe/Oslo
BEGIN:DAYLIGHT
TZOFFSETFROM:+0100
TZOFFSETTO:+0200
TZNAME:CEST
DTSTART:20200329T010000
END:DAYLIGHT
BEGIN:STANDARD
TZOFFSETFROM:+0200
TZOFFSETTO:+0100
TZNAME:CET
DTSTART:20201025T010000
END:STANDARD
END:VTIMEZONE
BEGIN:VEVENT
DTSTART;TZID=Europe/Oslo:20201022T183000
DTEND;TZID=Europe/Oslo:20201022T193000
DTSTAMP:20260423T201731
CREATED:20200916T103222Z
LAST-MODIFIED:20200916T111426Z
UID:2332-1603391400-1603395000@ntnui.no
SUMMARY:Trøndersk vinterkarusell
DESCRIPTION:Vinterkarusellen er en serie med løp gjennom vinteren som arrangeres av Strindheim Friidrett. \nVinterkarusellen vil i vinter bestå av 6 løp\, med løp fra september 2020 til april 2021. Vinterkarusellen er åpen for alle\, med klasser fra 10 år og eldre. Løpene vil bli gjennomført i henhold til de til enhver tid gjeldende smittevernbestemmelser. \nTorsdag 22. oktober blir det 5 km på Leangen. \nPåmelding er nødvendig. Se mer her!
URL:https://ntnui.no/friidrett/event/trondersk-vinterkarusell-2/
LOCATION:Leangen\, Peder Østlunds veg 7\, Trondheim\, 7045\, Norge
CATEGORIES:Konkurranse
ATTACH;FMTTYPE=image/jpeg:https://ntnui.no/friidrett/wp-content/uploads/sites/262/2020/09/vinterkarusell4.jpg
END:VEVENT
END:VCALENDAR