BEGIN:VCALENDAR
VERSION:2.0
PRODID:-//NTNUI Friidrett - ECPv5.2.1//NONSGML v1.0//EN
CALSCALE:GREGORIAN
METHOD:PUBLISH
X-WR-CALNAME:NTNUI Friidrett
X-ORIGINAL-URL:https://ntnui.no/friidrett
X-WR-CALDESC:Arrangementer for NTNUI Friidrett
BEGIN:VTIMEZONE
TZID:Europe/Oslo
BEGIN:DAYLIGHT
TZOFFSETFROM:+0100
TZOFFSETTO:+0200
TZNAME:CEST
DTSTART:20210328T010000
END:DAYLIGHT
BEGIN:STANDARD
TZOFFSETFROM:+0200
TZOFFSETTO:+0100
TZNAME:CET
DTSTART:20211031T010000
END:STANDARD
END:VTIMEZONE
BEGIN:VEVENT
DTSTART;TZID=Europe/Oslo:20211030T190000
DTEND;TZID=Europe/Oslo:20211030T230000
DTSTAMP:20260424T055057
CREATED:20211019T145532Z
LAST-MODIFIED:20211025T200616Z
UID:2936-1635620400-1635634800@ntnui.no
SUMMARY:NTNUI Friidrett Halloween Party 2021
DESCRIPTION:We are having another party! Dress up and compete in having the best costume. The winner will get a prize!\nRemember to sign up!\nhttps://forms.gle/p9Nct5Jy24waWK8x6
URL:https://ntnui.no/friidrett/event/ntnui-friidrett-halloween-party-2021/
CATEGORIES:Sosialt
ATTACH;FMTTYPE=image/jpeg:https://ntnui.no/friidrett/wp-content/uploads/sites/262/2021/10/halloween.jpg
END:VEVENT
END:VCALENDAR