BEGIN:VCALENDAR
VERSION:2.0
PRODID:-//NTNUI Friidrett - ECPv5.2.1//NONSGML v1.0//EN
CALSCALE:GREGORIAN
METHOD:PUBLISH
X-WR-CALNAME:NTNUI Friidrett
X-ORIGINAL-URL:https://ntnui.no/friidrett
X-WR-CALDESC:Arrangementer for NTNUI Friidrett
BEGIN:VTIMEZONE
TZID:Europe/Oslo
BEGIN:DAYLIGHT
TZOFFSETFROM:+0100
TZOFFSETTO:+0200
TZNAME:CEST
DTSTART:20210328T010000
END:DAYLIGHT
BEGIN:STANDARD
TZOFFSETFROM:+0200
TZOFFSETTO:+0100
TZNAME:CET
DTSTART:20211031T010000
END:STANDARD
END:VTIMEZONE
BEGIN:VEVENT
DTSTART;TZID=Europe/Oslo:20211112T180000
DTEND;TZID=Europe/Oslo:20211113T180000
DTSTAMP:20260423T220446
CREATED:20211025T200302Z
LAST-MODIFIED:20211026T080828Z
UID:2952-1636740000-1636826400@ntnui.no
SUMMARY:Julebord
DESCRIPTION:Ho ho all together\,\n\n\nWe are happy to keep you posted with more information on one of our semester highlight on November 12th. Time to put out your nicest Christmas dress or suit to join Fridretts first ever Julebord!\n\n\nSo first some more information:\n– Location is Studenterhytta: You can arrive individually\, but there will be one bus up and one bus down. This is included in the price.\n– 50 persons will have the possibility to sleepover at Studenterhytta at own expenses (50 kr extra per person and night). Let us know in the registration form.\n– There will be vegan/vegetarian food alternatives. Alcohol can be purchased at their bar.\n– We have access to the sauna.\n\n\nPrices:\n– Price for Julebord without sleepover: 450kr\n– Price with sleepover+breakfast: 500kr\nIncluded in the ticket price:\n– Entrance to Julebord\n– Typical norwegian Julebord dinner: Rybbe (pork)or vegan option\n– Two bus rides (one up and one down)\n– Depending on the ticket: Sleepover + Breakfast\n\n\nWe are not allowed to bring our own alcohol. This rule will be strictly controlled and we carry the responsibility for the consequences. We ask you to follow this requirement. Fines are high\, and the accused person will have to settle the debts individually. But don’t worry\, there is a bar.\n\n\nImportant deadlines to keep in mind:\nRegistration form closes: Wednesday\, 27th at 23:59.\nPayment deadline: Sunday\, 31st at 23:59.\n\n\nRemember that signing up with this registration form is binding to the event. After signing up we ask you to pay the ticket price via Vipps or PayPal. Payment details will be sent after registration.\n\n\nSo that’s the long awaited link: https://forms.gle/J47HR6QT6CPC1WKK7\n\n\nWe look forward to see you at Studenterhytta\,\nYour social committee
URL:https://ntnui.no/friidrett/event/julebord/
LOCATION:Studenterhytta\, Andbjørg Jamesons veg 3\, Trondheim\, 7020\, Norge
CATEGORIES:Sosialt
ATTACH;FMTTYPE=image/jpeg:https://ntnui.no/friidrett/wp-content/uploads/sites/262/2021/10/NTNUI-Blits-JBH-892-1.jpg
END:VEVENT
END:VCALENDAR