BEGIN:VCALENDAR
VERSION:2.0
PRODID:-//NTNUI Friidrett - ECPv5.2.1//NONSGML v1.0//EN
CALSCALE:GREGORIAN
METHOD:PUBLISH
X-WR-CALNAME:NTNUI Friidrett
X-ORIGINAL-URL:https://ntnui.no/friidrett
X-WR-CALDESC:Arrangementer for NTNUI Friidrett
BEGIN:VTIMEZONE
TZID:Europe/Oslo
BEGIN:DAYLIGHT
TZOFFSETFROM:+0100
TZOFFSETTO:+0200
TZNAME:CEST
DTSTART:20210328T010000
END:DAYLIGHT
BEGIN:STANDARD
TZOFFSETFROM:+0200
TZOFFSETTO:+0100
TZNAME:CET
DTSTART:20211031T010000
END:STANDARD
END:VTIMEZONE
BEGIN:VEVENT
DTSTART;TZID=Europe/Oslo:20210224T183000
DTEND;TZID=Europe/Oslo:20210224T193000
DTSTAMP:20260422T213815
CREATED:20210122T143830Z
LAST-MODIFIED:20210215T125601Z
UID:2701-1614191400-1614195000@ntnui.no
SUMMARY:Intervals
DESCRIPTION:Meet up outside Trondheim spektrum. \nBecause of the pandemic it is important to stay updated on COVID-19 precautions\, it is recomended that you join our Facebook group for the latest information. \nFacebook group
URL:https://ntnui.no/friidrett/event/intervals-23/
LOCATION:Trondheim spektrum\, Klostergata 90\, Trondheim\, 7030\, Norge
CATEGORIES:Trening
END:VEVENT
END:VCALENDAR