BEGIN:VCALENDAR
VERSION:2.0
PRODID:-//NTNUI Friidrett - ECPv5.2.1//NONSGML v1.0//EN
CALSCALE:GREGORIAN
METHOD:PUBLISH
X-WR-CALNAME:NTNUI Friidrett
X-ORIGINAL-URL:https://ntnui.no/friidrett
X-WR-CALDESC:Arrangementer for NTNUI Friidrett
BEGIN:VTIMEZONE
TZID:Europe/Oslo
BEGIN:DAYLIGHT
TZOFFSETFROM:+0100
TZOFFSETTO:+0200
TZNAME:CEST
DTSTART:20230326T010000
END:DAYLIGHT
BEGIN:STANDARD
TZOFFSETFROM:+0200
TZOFFSETTO:+0100
TZNAME:CET
DTSTART:20231029T010000
END:STANDARD
END:VTIMEZONE
BEGIN:VEVENT
DTSTART;TZID=Europe/Oslo:20230422T160000
DTEND;TZID=Europe/Oslo:20230422T180000
DTSTAMP:20260421T183404
CREATED:20230115T204805Z
LAST-MODIFIED:20230415T085546Z
UID:3354-1682179200-1682186400@ntnui.no
SUMMARY:Hjalmar's Tresure Hunt
DESCRIPTION:A mysterious letter from Hjalmar has been found. You may think “oh\, that’s nice”\, but it is more than just nice\, it is completely bananas! 😮 \nBefore he was tragically taken away from us during the kidnapping at the julebord 2019\, he left a treasure. We have not yet been able to find the treasure\, but the letter shows us the way. \nIt is filled with mysterious clues and is hard to interpret\, but one thing was clear. It can only be found\, by friends with fine form\, in clothes of the perfect color. We need you! \nMeet up in front of the main building at Gløshaugen at 4pm. We will finish up at 6pm somewhere on Gløshaugen. Hopefully\, we will find the treasure by then! \nAfterward\, there will be a party. We are celebrating the life of Hjalmar Senior and how lucky we are to have Hjalmar Junior in our club. The party will be open from 7pm. In between the treasure hunt and the party\, we have the option to shower at SIT or Gløshaugen and share pizza with other participants at Gløshaugen (we will organize it\, you pay for yourself). \nWhat to wear? We might be looking for the treasure both inside and outside\, so dress for both. \nWhat to bring? Your student card could be nice in case we need to enter Gløshaugen. Also\, if participating at the party without going home in between\, don’t forget beverages and whatever you need for showering\, etc. You can store those things at SIT if you have a membership  \nAre we running? It’s difficult to say from Hjalmar’s letter\, but you should be prepared for some running\, maybe up to 6km. \nIf participating\, do sign up with this form. The signup will open Tuesday 11th of April at 12pm and close Thursday 20th of April at 4pm.
URL:https://ntnui.no/friidrett/event/hjalmars-tresure-hunt/
LOCATION:In front of the main building at Gløshaugen\, Høgskoleringen 1\, Trondheim\, 7034\, Norge
CATEGORIES:Konkurranse,Sosialt,Trening
ATTACH;FMTTYPE=image/jpeg:https://ntnui.no/friidrett/wp-content/uploads/sites/262/2023/01/IMG_1474.jpg
END:VEVENT
END:VCALENDAR