BEGIN:VCALENDAR
VERSION:2.0
PRODID:-//NTNUI Friidrett - ECPv5.2.1//NONSGML v1.0//EN
CALSCALE:GREGORIAN
METHOD:PUBLISH
X-WR-CALNAME:NTNUI Friidrett
X-ORIGINAL-URL:https://ntnui.no/friidrett
X-WR-CALDESC:Arrangementer for NTNUI Friidrett
BEGIN:VTIMEZONE
TZID:Europe/Oslo
BEGIN:DAYLIGHT
TZOFFSETFROM:+0100
TZOFFSETTO:+0200
TZNAME:CEST
DTSTART:20220327T010000
END:DAYLIGHT
BEGIN:STANDARD
TZOFFSETFROM:+0200
TZOFFSETTO:+0100
TZNAME:CET
DTSTART:20221030T010000
END:STANDARD
END:VTIMEZONE
BEGIN:VEVENT
DTSTART;TZID=Europe/Oslo:20220318T163000
DTEND;TZID=Europe/Oslo:20220318T173000
DTSTAMP:20260423T060831
CREATED:20220310T131656Z
LAST-MODIFIED:20220311T072922Z
UID:3104-1647621000-1647624600@ntnui.no
SUMMARY:Hill intervals - in collaboration with En Psykt Vanlig Uke
DESCRIPTION:In collaboration with En Psykt Vanlig Uke and Active Campus we present Hill Intervals! \nWe’ll split into two groups as usual: long and short!
URL:https://ntnui.no/friidrett/event/hill-intervals-in-collaboration-with-en-psykt-vanlig-uke/
LOCATION:In front of the main building at Gløshaugen\, Høgskoleringen 1\, Trondheim\, 7034\, Norge
CATEGORIES:Trening
ATTACH;FMTTYPE=image/png:https://ntnui.no/friidrett/wp-content/uploads/sites/262/2022/03/Bakkeintervaller.png
END:VEVENT
END:VCALENDAR