BEGIN:VCALENDAR
VERSION:2.0
PRODID:-//NTNUI Friidrett - ECPv5.2.1//NONSGML v1.0//EN
CALSCALE:GREGORIAN
METHOD:PUBLISH
X-WR-CALNAME:NTNUI Friidrett
X-ORIGINAL-URL:https://ntnui.no/friidrett
X-WR-CALDESC:Arrangementer for NTNUI Friidrett
BEGIN:VTIMEZONE
TZID:Europe/Oslo
BEGIN:DAYLIGHT
TZOFFSETFROM:+0100
TZOFFSETTO:+0200
TZNAME:CEST
DTSTART:20210328T010000
END:DAYLIGHT
BEGIN:STANDARD
TZOFFSETFROM:+0200
TZOFFSETTO:+0100
TZNAME:CET
DTSTART:20211031T010000
END:STANDARD
END:VTIMEZONE
BEGIN:VEVENT
DTSTART;TZID=Europe/Oslo:20210312T163000
DTEND;TZID=Europe/Oslo:20210312T180000
DTSTAMP:20260423T092943
CREATED:20210214T202600Z
LAST-MODIFIED:20210214T202632Z
UID:2798-1615566600-1615572000@ntnui.no
SUMMARY:Hill intervals
DESCRIPTION:Meet up in front of the main building at Gløshaugen. We are often jogging and doing some stair exercises before we find a hill and do the intervals. Examples of hills we run are  the hill in front of the main building\,  Brattbakken\,  Blusuvollsbakken and  Sykkelheisbakken. We split into two groups: one group that runs a hill from the bottom to the top and another group that runs a smaller part of the same hill. Typically\, we run 2 x 5 times. \nIn these turbulent days where the corona restrictions are changing from week to week the training sessions may suddenly be canceled or we may want you to sign up in advance. Sometimes we might not be able to update the website with this information.  Our Facebook group\, however\, should be updated. Join the group or  send us an email to get the latest information.
URL:https://ntnui.no/friidrett/event/hill-intervals-22/
LOCATION:In front of the main building at Gløshaugen\, Høgskoleringen 1\, Trondheim\, 7034\, Norge
CATEGORIES:Trening
ATTACH;FMTTYPE=image/jpeg:https://ntnui.no/friidrett/wp-content/uploads/sites/262/2020/08/bakkeintervaller.jpg
END:VEVENT
END:VCALENDAR