BEGIN:VCALENDAR
VERSION:2.0
PRODID:-//NTNUI Friidrett - ECPv5.2.1//NONSGML v1.0//EN
CALSCALE:GREGORIAN
METHOD:PUBLISH
X-WR-CALNAME:NTNUI Friidrett
X-ORIGINAL-URL:https://ntnui.no/friidrett
X-WR-CALDESC:Arrangementer for NTNUI Friidrett
BEGIN:VTIMEZONE
TZID:Europe/Oslo
BEGIN:DAYLIGHT
TZOFFSETFROM:+0100
TZOFFSETTO:+0200
TZNAME:CEST
DTSTART:20200329T010000
END:DAYLIGHT
BEGIN:STANDARD
TZOFFSETFROM:+0200
TZOFFSETTO:+0100
TZNAME:CET
DTSTART:20201025T010000
END:STANDARD
END:VTIMEZONE
BEGIN:VEVENT
DTSTART;TZID=Europe/Oslo:20201030T163000
DTEND;TZID=Europe/Oslo:20201030T173000
DTSTAMP:20260423T092944
CREATED:20201005T183803Z
LAST-MODIFIED:20201005T183803Z
UID:2395-1604075400-1604079000@ntnui.no
SUMMARY:Hill intervals
DESCRIPTION:Meet up outside Idrettsbygget Gløshaugen and we will split up into different groups. You can choose between short and long. Long group usually runs a hill from the bottom to the top and short group runs a smaller part of the same hill. We are warming up with jogging and maybe some stair exercises before we run to the hill and start the intervals. Examples of hills can be Blussuvollsbakken\, the bike lift hill or the hill up in front of the main building at Gløshaugen. Usually\, we are running the hill 10 times with a longer break after the first five. After the intervals\, you could join us running back to Idrettsbygget or you could go directly home.
URL:https://ntnui.no/friidrett/event/hill-intervals-11/
LOCATION:Idrettsbygget Gløshausen\, Christian Frederiks gate 20\, Trondheim\, 7030\, Norge
CATEGORIES:Trening
ATTACH;FMTTYPE=image/jpeg:https://ntnui.no/friidrett/wp-content/uploads/sites/262/2020/08/bakkeintervaller.jpg
END:VEVENT
END:VCALENDAR