BEGIN:VCALENDAR
VERSION:2.0
PRODID:-//NTNUI Friidrett - ECPv5.2.1//NONSGML v1.0//EN
CALSCALE:GREGORIAN
METHOD:PUBLISH
X-WR-CALNAME:NTNUI Friidrett
X-ORIGINAL-URL:https://ntnui.no/friidrett
X-WR-CALDESC:Arrangementer for NTNUI Friidrett
BEGIN:VTIMEZONE
TZID:Europe/Oslo
BEGIN:DAYLIGHT
TZOFFSETFROM:+0100
TZOFFSETTO:+0200
TZNAME:CEST
DTSTART:20230326T010000
END:DAYLIGHT
BEGIN:STANDARD
TZOFFSETFROM:+0200
TZOFFSETTO:+0100
TZNAME:CET
DTSTART:20231029T010000
END:STANDARD
END:VTIMEZONE
BEGIN:VEVENT
DTSTART;TZID=Europe/Oslo:20230221T163000
DTEND;TZID=Europe/Oslo:20230221T200000
DTSTAMP:20260421T143812
CREATED:20230207T152811Z
LAST-MODIFIED:20230207T152811Z
UID:3405-1676997000-1677009600@ntnui.no
SUMMARY:Group General Assembly
DESCRIPTION:Welcome to the Group General Assembly. See webpage link under for offical notice and case files:\nhttps://ntnui.no/…/02/07/notice-group-general-assembly/\n\nRemember that you can send in cases and suggestions to changes to the masterplan! Case files will be finalized 14.02\n\nLocation: F2 Gamle Fysikk 
URL:https://ntnui.no/friidrett/event/group-general-assembly-2/
CATEGORIES:Meeting
ATTACH;FMTTYPE=image/jpeg:https://ntnui.no/friidrett/wp-content/uploads/sites/262/2022/01/2021-10-16_Fredrik-Warvik_FriidrettExtraordinaryGroupGeneralAssembly-13.jpg
END:VEVENT
END:VCALENDAR