BEGIN:VCALENDAR
VERSION:2.0
PRODID:-//NTNUI Friidrett - ECPv5.2.1//NONSGML v1.0//EN
CALSCALE:GREGORIAN
METHOD:PUBLISH
X-WR-CALNAME:NTNUI Friidrett
X-ORIGINAL-URL:https://ntnui.no/friidrett
X-WR-CALDESC:Arrangementer for NTNUI Friidrett
BEGIN:VTIMEZONE
TZID:Europe/Oslo
BEGIN:DAYLIGHT
TZOFFSETFROM:+0100
TZOFFSETTO:+0200
TZNAME:CEST
DTSTART:20220327T010000
END:DAYLIGHT
BEGIN:STANDARD
TZOFFSETFROM:+0200
TZOFFSETTO:+0100
TZNAME:CET
DTSTART:20221030T010000
END:STANDARD
END:VTIMEZONE
BEGIN:VEVENT
DTSTART;VALUE=DATE:20220430
DTEND;VALUE=DATE:20220501
DTSTAMP:20260423T003531
CREATED:20220228T123443Z
LAST-MODIFIED:20220330T154451Z
UID:3075-1651276800-1651363199@ntnui.no
SUMMARY:Fjellseterløpet
DESCRIPTION:From the start on the footpath at Lerkendal\, the trail goes over Stavnebrua\, then under the railway line and a few meters along Osloveien. The route then turns left along Mørlenda\, below the tram line\, through the roundabout at Breidablikk and further up Breidablikkveien to Byåsen shopping center. From there\, the trail goes along Fjellseterveien to the finish line at Skistua. The trail is 8.1 km long and the total ascent is around 420 meters. \nThe registration will open soon!
URL:https://ntnui.no/friidrett/event/fjellseterlopet/
CATEGORIES:Konkurranse
ATTACH;FMTTYPE=image/png:https://ntnui.no/friidrett/wp-content/uploads/sites/262/2022/02/Facebook-fjellseterlopet-1.png
END:VEVENT
END:VCALENDAR