BEGIN:VCALENDAR
VERSION:2.0
PRODID:-//NTNUI Friidrett - ECPv5.2.1//NONSGML v1.0//EN
CALSCALE:GREGORIAN
METHOD:PUBLISH
X-WR-CALNAME:NTNUI Friidrett
X-ORIGINAL-URL:https://ntnui.no/friidrett
X-WR-CALDESC:Arrangementer for NTNUI Friidrett
BEGIN:VTIMEZONE
TZID:Europe/Oslo
BEGIN:DAYLIGHT
TZOFFSETFROM:+0100
TZOFFSETTO:+0200
TZNAME:CEST
DTSTART:20210328T010000
END:DAYLIGHT
BEGIN:STANDARD
TZOFFSETFROM:+0200
TZOFFSETTO:+0100
TZNAME:CET
DTSTART:20211031T010000
END:STANDARD
END:VTIMEZONE
BEGIN:VEVENT
DTSTART;TZID=Europe/Oslo:20210308T183000
DTEND;TZID=Europe/Oslo:20210308T193000
DTSTAMP:20260423T071335
CREATED:20210214T195702Z
LAST-MODIFIED:20210214T195702Z
UID:2780-1615228200-1615231800@ntnui.no
SUMMARY:Easy jog
DESCRIPTION:This is the most popular session of the week! We run for a bit less than an hour outdoors at a slow pace. This is a good session for beginners\, but also a good easy-run for experienced runners. We split up in four groups\, running 6 km\, 8 km\, 10 km and 12 km. \nMeet up in front of the main building at Gløshaugen. There\, we will divide into groups before we are running for an hour and ending at the same place. \nIn these turbulent days where the corona restrictions are changing from week to week the training sessions may suddenly be canceled or we may want you to sign up in advance. Sometimes we might not be able to update the website with this information.  Our Facebook group\, however\, is always updated. Join the group or  send us an email to get the latest information.
URL:https://ntnui.no/friidrett/event/easy-jog-26/
LOCATION:In front of the main building at Gløshaugen\, Høgskoleringen 1\, Trondheim\, 7034\, Norge
CATEGORIES:Trening
ATTACH;FMTTYPE=image/jpeg:https://ntnui.no/friidrett/wp-content/uploads/sites/262/2021/01/rsz_20200810_192315.jpg
END:VEVENT
END:VCALENDAR