BEGIN:VCALENDAR
VERSION:2.0
PRODID:-//NTNUI Friidrett - ECPv5.2.1//NONSGML v1.0//EN
CALSCALE:GREGORIAN
METHOD:PUBLISH
X-WR-CALNAME:NTNUI Friidrett
X-ORIGINAL-URL:https://ntnui.no/friidrett
X-WR-CALDESC:Arrangementer for NTNUI Friidrett
BEGIN:VTIMEZONE
TZID:Europe/Oslo
BEGIN:DAYLIGHT
TZOFFSETFROM:+0100
TZOFFSETTO:+0200
TZNAME:CEST
DTSTART:20210328T010000
END:DAYLIGHT
BEGIN:STANDARD
TZOFFSETFROM:+0200
TZOFFSETTO:+0100
TZNAME:CET
DTSTART:20211031T010000
END:STANDARD
END:VTIMEZONE
BEGIN:VEVENT
DTSTART;TZID=Europe/Oslo:20210222T183000
DTEND;TZID=Europe/Oslo:20210222T193000
DTSTAMP:20260422T154632
CREATED:20210122T141120Z
LAST-MODIFIED:20210213T120047Z
UID:2691-1614018600-1614022200@ntnui.no
SUMMARY:Easy Jog
DESCRIPTION:Monday jog is the most popular session of the week! We run for a bit less than an hour outdoors at a slow pace. This is a good session for beginners\, but also a good easy-run for experienced runners. We split up in four groups\, running 6 km\, 8 km\, 10 km and 12 km. \nMeet up in front of the main building at Gløshaugen. There\, we will divide into groups before we are running for an hour and ending at the same place. \nBecause of the pandemic it is important to stay updated on COVID-19 precautions\, it is recomended that you join our Facebook group for the latest information. \nFacebook group
URL:https://ntnui.no/friidrett/event/easy-jog-24/
LOCATION:In front of the main building at Gløshaugen\, Høgskoleringen 1\, Trondheim\, 7034\, Norge
CATEGORIES:Trening
END:VEVENT
END:VCALENDAR