BEGIN:VCALENDAR
VERSION:2.0
PRODID:-//NTNUI Friidrett - ECPv5.2.1//NONSGML v1.0//EN
CALSCALE:GREGORIAN
METHOD:PUBLISH
X-WR-CALNAME:NTNUI Friidrett
X-ORIGINAL-URL:https://ntnui.no/friidrett
X-WR-CALDESC:Arrangementer for NTNUI Friidrett
BEGIN:VTIMEZONE
TZID:Europe/Oslo
BEGIN:DAYLIGHT
TZOFFSETFROM:+0100
TZOFFSETTO:+0200
TZNAME:CEST
DTSTART:20210328T010000
END:DAYLIGHT
BEGIN:STANDARD
TZOFFSETFROM:+0200
TZOFFSETTO:+0100
TZNAME:CET
DTSTART:20211031T010000
END:STANDARD
END:VTIMEZONE
BEGIN:VEVENT
DTSTART;TZID=Europe/Oslo:20210111T183000
DTEND;TZID=Europe/Oslo:20210111T193000
DTSTAMP:20260421T003858
CREATED:20210103T160548Z
LAST-MODIFIED:20210103T160714Z
UID:2652-1610389800-1610393400@ntnui.no
SUMMARY:Easy jog
DESCRIPTION:Monday jog is the most popular session of the week! We run for a bit less than an hour outdoors at a slow pace. This is a good session for beginners\, but also a good easy-run for experienced runners. We split up in four groups\, running 6 km\, 8 km\, 10 km and 12 km. \nMeet up at the lawn on the opposite side of the road for Idrettsbygget Gløshaugen. There\, we will divide into groups before we are running for an hour and ending at the same place. \nDue to the pandemic\, everyone will have to sign up for training. This way you can be sure not to have more social contacts than you are allowed to. To get access to the sign up sheet\, become a member of the Facebook group or send us an email. \nFacebook group\n \nEmail
URL:https://ntnui.no/friidrett/event/easy-jog-18/
LOCATION:Trondheim spektrum\, Klostergata 90\, Trondheim\, 7030\, Norge
CATEGORIES:Trening
ATTACH;FMTTYPE=image/jpeg:https://ntnui.no/friidrett/wp-content/uploads/sites/262/2021/01/rsz_20200810_192315.jpg
END:VEVENT
END:VCALENDAR