BEGIN:VCALENDAR
VERSION:2.0
PRODID:-//NTNUI Friidrett - ECPv5.2.1//NONSGML v1.0//EN
CALSCALE:GREGORIAN
METHOD:PUBLISH
X-WR-CALNAME:NTNUI Friidrett
X-ORIGINAL-URL:https://ntnui.no/friidrett
X-WR-CALDESC:Arrangementer for NTNUI Friidrett
BEGIN:VTIMEZONE
TZID:Europe/Oslo
BEGIN:DAYLIGHT
TZOFFSETFROM:+0100
TZOFFSETTO:+0200
TZNAME:CEST
DTSTART:20220327T010000
END:DAYLIGHT
BEGIN:STANDARD
TZOFFSETFROM:+0200
TZOFFSETTO:+0100
TZNAME:CET
DTSTART:20221030T010000
END:STANDARD
END:VTIMEZONE
BEGIN:VEVENT
DTSTART;TZID=Europe/Oslo:20220401T163000
DTEND;TZID=Europe/Oslo:20220401T173000
DTSTAMP:20260423T003618
CREATED:20220307T101028Z
LAST-MODIFIED:20220307T101028Z
UID:3091-1648830600-1648834200@ntnui.no
SUMMARY:Bring a friend friday
DESCRIPTION:Hjalmar loves sharing bananas\, and he loves making new friends.\nIf you combine these two passions\, Hjalmar loves making new friends by handing out bananas.\nEvery month Hjalmar comes to at least one run to make new friends\, where he rewards everyone with a banana who brings him someone new to greet\, or makes a new friend themselves at practise (in the spirit of Hjalmar).\nBut because Hjalmar is a busy mascot\, he must hand out the bananas in his spare time\, so usually he comes on Fridays. Thus\, his hosts his monthly Bring A Friend Friday.\nJoin us in NTNUI-Friidrett for our Friday practises\, where the first Friday of the month Hjalmar comes with bananas. See you there! 
URL:https://ntnui.no/friidrett/event/bring-a-friend-friday-6/
LOCATION:In front of the main building at Gløshaugen\, Høgskoleringen 1\, Trondheim\, 7034\, Norge
ATTACH;FMTTYPE=image/png:https://ntnui.no/friidrett/wp-content/uploads/sites/262/2022/03/friendFriday.png
END:VEVENT
END:VCALENDAR