BEGIN:VCALENDAR
VERSION:2.0
PRODID:-//NTNUI Friidrett - ECPv5.2.1//NONSGML v1.0//EN
CALSCALE:GREGORIAN
METHOD:PUBLISH
X-WR-CALNAME:NTNUI Friidrett
X-ORIGINAL-URL:https://ntnui.no/friidrett
X-WR-CALDESC:Arrangementer for NTNUI Friidrett
BEGIN:VTIMEZONE
TZID:Europe/Oslo
BEGIN:DAYLIGHT
TZOFFSETFROM:+0100
TZOFFSETTO:+0200
TZNAME:CEST
DTSTART:20210328T010000
END:DAYLIGHT
BEGIN:STANDARD
TZOFFSETFROM:+0200
TZOFFSETTO:+0100
TZNAME:CET
DTSTART:20211031T010000
END:STANDARD
END:VTIMEZONE
BEGIN:VEVENT
DTSTART;VALUE=DATE:20210225
DTEND;VALUE=DATE:20210226
DTSTAMP:20260422T213854
CREATED:20210127T190108Z
LAST-MODIFIED:20210214T203121Z
UID:2731-1614211200-1614297599@ntnui.no
SUMMARY:Annual meeting
DESCRIPTION:The meeting over all meetings! \nAt the annual meeting we are electing a new board and deciding the future for the group. Are you considering yourself an active member you should definitely join this evening. If you have anything to say about how we are doing things as a group\, this is the place to discuss. \nWant to apply for the board and be part of the team that keeps the group running for the next year?\nFill in this form before the 14th of February. \nIn the master plan\, you can read more about the board and the different positions. \nMore information about the details of the meeting is coming. Save the date!
URL:https://ntnui.no/friidrett/event/annual-meeting/
CATEGORIES:Meeting
END:VEVENT
END:VCALENDAR