BEGIN:VCALENDAR
VERSION:2.0
PRODID:-//NTNUI Friidrett - ECPv5.2.1//NONSGML v1.0//EN
CALSCALE:GREGORIAN
METHOD:PUBLISH
X-WR-CALNAME:NTNUI Friidrett
X-ORIGINAL-URL:https://ntnui.no/friidrett
X-WR-CALDESC:Arrangementer for NTNUI Friidrett
BEGIN:VTIMEZONE
TZID:Europe/Oslo
BEGIN:DAYLIGHT
TZOFFSETFROM:+0100
TZOFFSETTO:+0200
TZNAME:CEST
DTSTART:20210328T010000
END:DAYLIGHT
BEGIN:STANDARD
TZOFFSETFROM:+0200
TZOFFSETTO:+0100
TZNAME:CET
DTSTART:20211031T010000
END:STANDARD
END:VTIMEZONE
BEGIN:VEVENT
DTSTART;TZID=Europe/Oslo:20210221T140000
DTEND;TZID=Europe/Oslo:20210221T170000
DTSTAMP:20260422T134714
CREATED:20210216T191145Z
LAST-MODIFIED:20210219T123749Z
UID:2813-1613916000-1613926800@ntnui.no
SUMMARY:Sledding + chill
DESCRIPTION:Join your fellow NTNUI-members for a fun day of sledding in Duedalen next to Festningen. If you don’t want to sled you can bring your skates or just join us if you want to hang out and chill outside with your friends in NTNUI-friidrett.
URL:https://ntnui.no/friidrett/event/aking-chill/
LOCATION:Festningen\, Kristianstensbakken 60\, Trondheim\, 7014
CATEGORIES:Sosialt
END:VEVENT
END:VCALENDAR