BEGIN:VCALENDAR
VERSION:2.0
PRODID:-//NTNUI Friidrett - ECPv5.2.1//NONSGML v1.0//EN
CALSCALE:GREGORIAN
METHOD:PUBLISH
X-WR-CALNAME:NTNUI Friidrett
X-ORIGINAL-URL:https://ntnui.no/friidrett
X-WR-CALDESC:Arrangementer for NTNUI Friidrett
BEGIN:VTIMEZONE
TZID:Europe/Oslo
BEGIN:DAYLIGHT
TZOFFSETFROM:+0100
TZOFFSETTO:+0200
TZNAME:CEST
DTSTART:20230326T010000
END:DAYLIGHT
BEGIN:STANDARD
TZOFFSETFROM:+0200
TZOFFSETTO:+0100
TZNAME:CET
DTSTART:20231029T010000
END:STANDARD
END:VTIMEZONE
BEGIN:VEVENT
DTSTART;TZID=Europe/Oslo:20230517T070000
DTEND;TZID=Europe/Oslo:20230517T120000
DTSTAMP:20260421T204308
CREATED:20230129T190859Z
LAST-MODIFIED:20230129T190859Z
UID:3386-1684306800-1684324800@ntnui.no
SUMMARY:17th of may
DESCRIPTION:We will have our traditional Run & Swim\, along with a breakfast! You don’t want to miss this! \nMore info about time and place coming! 
URL:https://ntnui.no/friidrett/event/17th-of-may-2/
CATEGORIES:Sosialt
ATTACH;FMTTYPE=image/png:https://ntnui.no/friidrett/wp-content/uploads/sites/262/2022/05/17mai.png
END:VEVENT
END:VCALENDAR